BEGIN:VCALENDAR
VERSION:2.0
PRODID:-//ChamberMaster//Event Calendar 2.0//EN
METHOD:PUBLISH
X-PUBLISHED-TTL:P3D
REFRESH-INTERVAL:P3D
CALSCALE:GREGORIAN
BEGIN:VEVENT
DTSTART:20200629T173000Z
DTEND:20200629T190000Z
X-MICROSOFT-CDO-ALLDAYEVENT:FALSE
SUMMARY:Navigation Center Grand Opening
DESCRIPTION:Join the city of Buena Park and our North SPA partners in opening the Buena Park Navigation Center\, a temporary homeless shelter\, and the first key step in guiding our homeless neighbors back into permanent\,supportive housing. \n\n\n\nLimited parking around the site.\n\nBring a mask\n\nSocial distancing protocols in place\n\nTemperature checked before entering the facility
X-ALT-DESC;FMTTYPE=text/html:Join the city of Buena Park and our North SPA partners in opening the Buena Park Navigation Center\, a temporary homeless shelter\, and the first key step in guiding our homeless neighbors back into permanent\,supportive housing.&nbsp\;<br />\n<br />\n<span style="font-size:14px\;"><span style="color: rgb(33\, 33\, 33)\; font-family: Calibri\, sans-serif\, serif\, EmojiFont\; line-height: normal\;">Limited parking around the site.</span><br style="color: rgb(33\, 33\, 33)\; font-family: Calibri\, sans-serif\, serif\, EmojiFont\; font-size: 16px\; line-height: normal\;" />\n<span style="color: rgb(33\, 33\, 33)\; font-family: Calibri\, sans-serif\, serif\, EmojiFont\; line-height: normal\;">Bring a mask</span><br style="color: rgb(33\, 33\, 33)\; font-family: Calibri\, sans-serif\, serif\, EmojiFont\; font-size: 16px\; line-height: normal\;" />\n<span style="color: rgb(33\, 33\, 33)\; font-family: Calibri\, sans-serif\, serif\, EmojiFont\; line-height: normal\;">Social distancing protocols in place</span><br style="color: rgb(33\, 33\, 33)\; font-family: Calibri\, sans-serif\, serif\, EmojiFont\; font-size: 16px\; line-height: normal\;" />\n<span style="color: rgb(33\, 33\, 33)\; font-family: Calibri\, sans-serif\, serif\, EmojiFont\; line-height: normal\;">Temperature checked before entering the facility</span></span>
LOCATION:6494 Caballero Blvd. Buena Park\, CA 90621
UID:e.887.24435
SEQUENCE:3
DTSTAMP:20260421T143029Z
URL:https://business.nocchamber.com/events/details/navigation-center-grand-opening-24435
END:VEVENT

END:VCALENDAR
