BEGIN:VCALENDAR
VERSION:2.0
PRODID:-//ChamberMaster//Event Calendar 2.0//EN
METHOD:PUBLISH
X-PUBLISHED-TTL:P3D
REFRESH-INTERVAL:P3D
CALSCALE:GREGORIAN
BEGIN:VEVENT
DTSTART:20190213T030000Z
DTEND:20190213T060000Z
X-MICROSOFT-CDO-ALLDAYEVENT:FALSE
SUMMARY:Navigation Center Community Meeting
DESCRIPTION:Community Meeting discussing this topic:\n\n- Ask questions about proposed plans for the site\n\n- Answers from City staff\, police officers & community partners\n\n\n\nThis Community Meeting is another step in discussing plans for the proposed site with the community.
X-ALT-DESC;FMTTYPE=text/html:Community Meeting discussing this topic:<br />\n- Ask questions about proposed plans for the site<br />\n- Answers from City staff\, police officers &amp\; community partners<br />\n<br />\nThis Community Meeting is another step in discussing plans for the proposed site with the community.
LOCATION:Buena Park City Council Chamber 6650 Beach Blvd. Buena Park\, CA 90621
UID:e.887.22980
SEQUENCE:3
DTSTAMP:20260422T093245Z
URL:https://business.nocchamber.com/events/details/navigation-center-community-meeting-22980
END:VEVENT

END:VCALENDAR
