BEGIN:VCALENDAR
VERSION:2.0
PRODID:-//ChamberMaster//Event Calendar 2.0//EN
METHOD:PUBLISH
X-PUBLISHED-TTL:P3D
REFRESH-INTERVAL:P3D
CALSCALE:GREGORIAN
BEGIN:VEVENT
DTSTART:20180808T000000Z
DTEND:20180808T030000Z
X-MICROSOFT-CDO-ALLDAYEVENT:FALSE
SUMMARY:National Night Out Fullerton
DESCRIPTION:Join the Fullerton Police Department for National Night Out 2018 on Tuesday\, August 7\, from 5:00 p.m. to 8:00 p.m. in the Downtown Fullerton Plaza.\n\n\n\nActivities include demonstrations\, emergency vehicles\, food\, and more.
X-ALT-DESC;FMTTYPE=text/html:Join the Fullerton Police Department for National Night Out 2018&nbsp\;on Tuesday\, August 7\, from 5:00 p.m. to 8:00 p.m.&nbsp\;in the Downtown Fullerton Plaza.<br />\n<br />\nActivities include demonstrations\, emergency vehicles\, food\, and more.
LOCATION:Downtown Fullerton Plaza 125 E. Wilshire Ave. Fullerton\, CA 92832
UID:e.887.22535
SEQUENCE:3
DTSTAMP:20260422T091126Z
URL:https://business.nocchamber.com/events/details/national-night-out-fullerton-22535
END:VEVENT

END:VCALENDAR
