BEGIN:VCALENDAR
VERSION:2.0
PRODID:-//ChamberMaster//Event Calendar 2.0//EN
METHOD:PUBLISH
X-PUBLISHED-TTL:P3D
REFRESH-INTERVAL:P3D
CALSCALE:GREGORIAN
BEGIN:VEVENT
DTSTART:20200331T170000Z
DTEND:20200331T185500Z
X-MICROSOFT-CDO-ALLDAYEVENT:FALSE
SUMMARY:My Storefront Is Closed! How Do I Sell My Goods On Line?
DESCRIPTION:Webinar Hosted by NFIB: \n\n\n\nNFIB is hosting a webcasting\, Coronavirus Part III: Financial Resources and Updates for Small Businesses.  The NFIB website states that anyone interested in the topic should register and\, if unable to participate\, a link to the recorded event will be email.  Registration: Here
X-ALT-DESC;FMTTYPE=text/html:Webinar Hosted by NFIB:&nbsp\;<br />\n<br />\n<strong><span style="background:white\;"><span style="color:black\;"><span style="font-family:applesdgothicneo-regular\,serif\;"><span style="font-size:10.0pt\;">NFIB</span></span></span></span></strong><span style="background:white\;"><span style="color:black\;"><span style="font-family:applesdgothicneo-regular\,serif\;"><span style="font-size:10.0pt\;">&nbsp\;is hosting a webcasting\, Coronavirus Part III: Financial Resources and Updates for Small Businesses. &nbsp\;The NFIB website states that anyone interested in the topic should register and\, if unable to participate\, a link to the recorded event will be email. &nbsp\;<a href="https://www.nfib.com/webinars/nfib-coronavirus-webinar-part-iii-financial-resources-and-updates-for-small-business/?utm_source=Webinars&amp\;utm_medium=Email&amp\;utm_content=announcement&amp\;utm_campaign=Webinar03302020 https://gob">Registration: Here</a></span></span></span></span><a href="https://www.nfib.com/webinars/nfib-coronavirus-webinar-part-iii-financial-resources-and-updates-for-small-business/?utm_source=Webinars&amp\;utm_medium=Email&amp\;utm_content=announcement&amp\;utm_campaign=Webinar03302020"><span style="background:white\;"><span style="color:#060505\;"><span style="font-family:arial\,sans-serif\;"><span style="font-size:10.0pt\;">&nbsp\;</span></span></span></span></a>
LOCATION:Webinar - On Line Only Register Here
UID:e.887.24267
SEQUENCE:3
DTSTAMP:20260421T165141Z
URL:https://business.nocchamber.com/events/details/my-storefront-is-closed-how-do-i-sell-my-goods-on-line-24267
END:VEVENT

END:VCALENDAR
