BEGIN:VCALENDAR
VERSION:2.0
PRODID:-//ChamberMaster//Event Calendar 2.0//EN
METHOD:PUBLISH
X-PUBLISHED-TTL:P3D
REFRESH-INTERVAL:P3D
CALSCALE:GREGORIAN
BEGIN:VEVENT
DTSTART:20190222T013000Z
DTEND:20190222T040000Z
X-MICROSOFT-CDO-ALLDAYEVENT:FALSE
SUMMARY:MWDOC's Water Policy Forum & Dinner
DESCRIPTION:The Municipal Water District of Orange County hosts their first Speakers Series focusing on water supply in California's three unique water regions\, Northern\, Central\, and Southern California. Each region has distinct challenges and opportunities\, and all effect our local water supplies here in Orange County.
X-ALT-DESC;FMTTYPE=text/html:<p>The Municipal Water District of Orange County&nbsp\;hosts their first Speakers Series focusing on water supply in California&#39\;s three unique water regions\, Northern\, Central\, and Southern California. Each region has distinct challenges and opportunities\, and all effect our local water supplies here in Orange County.</p>\n
LOCATION:The Westin - South Coast Plaza 686 Anton Boulevard Costa Mesa\, CA 92626
UID:e.887.22975
SEQUENCE:3
DTSTAMP:20260422T091001Z
URL:https://business.nocchamber.com/events/details/mwdoc-s-water-policy-forum-dinner-22975
END:VEVENT

END:VCALENDAR
