BEGIN:VCALENDAR
VERSION:2.0
PRODID:-//ChamberMaster//Event Calendar 2.0//EN
METHOD:PUBLISH
X-PUBLISHED-TTL:P3D
REFRESH-INTERVAL:P3D
CALSCALE:GREGORIAN
BEGIN:VEVENT
DTSTART:20200520T170000Z
DTEND:20200520T183000Z
X-MICROSOFT-CDO-ALLDAYEVENT:FALSE
SUMMARY:MWD - Integrated Water Resources Plan Online Workshop
DESCRIPTION:The Metropolitan Water District of Southern California prepares for the future through an Integrated Resources Plan (IRP) developed in coordination with its member agencies and retail water providers across the region. The first IRP was adopted in 1996 and has been updated several times over the past 25 years. In 2020\, Metropolitan is creating a new IRP that will incorporate different scenarios to most effectively plan for and address potential water supply reliability challenges through 2045. You're invited to learn about the process and help identify "drivers of change" that will affect the future\, the first step in scenario planning.\n\n\n\nClick here to view the full flyer.\n\n\n\nClick here to register.
X-ALT-DESC;FMTTYPE=text/html:The Metropolitan Water District of Southern California prepares for the future through an Integrated Resources Plan (IRP) developed in coordination with its member agencies and retail water providers across the region. The first IRP was adopted in 1996 and has been updated several times over the past 25 years. In 2020\, Metropolitan is creating a new IRP that will incorporate different scenarios to most effectively plan for and address potential water supply reliability challenges through 2045. You&rsquo\;re invited to learn about the process and help identify &ldquo\;drivers of change&rdquo\; that will affect the future\, the first step in scenario planning.<br />\n<br />\n<a href="https://chambermaster.blob.core.windows.net/userfiles/UserFiles/chambers/887/File/MWDIRPWorkshopInvitationMay2020.pdf">Click here to view the full flyer.</a><br />\n<br />\n<a href="https://us02web.zoom.us/webinar/register/WN_LheOQ1x2R828-TsQYYx3Tw" target="_blank">Click here to register.</a>
LOCATION:Zoom
UID:e.887.24336
SEQUENCE:3
DTSTAMP:20260421T143926Z
URL:https://business.nocchamber.com/events/details/mwd-integrated-water-resources-plan-online-workshop-24336
END:VEVENT

END:VCALENDAR
