BEGIN:VCALENDAR
VERSION:2.0
PRODID:-//ChamberMaster//Event Calendar 2.0//EN
METHOD:PUBLISH
X-PUBLISHED-TTL:P3D
REFRESH-INTERVAL:P3D
CALSCALE:GREGORIAN
BEGIN:VEVENT
DTSTART:20190831T023000Z
DTEND:20190831T043000Z
X-MICROSOFT-CDO-ALLDAYEVENT:FALSE
SUMMARY:Music and Memories in the Making at The Muck
DESCRIPTION:Muckenthaler has partnered again with Gayle Heuser to raise awareness of people suffering with Alzheimer's. Gayle\, and her incredibly talented friends\, will perform selections from both opera and other musical styles that garnered her a standing ovation on Muckenthaler's stage last year. In partnership with Alzheimer's Orange County.
X-ALT-DESC;FMTTYPE=text/html:<p>Muckenthaler has partnered again with Gayle Heuser to raise awareness of people suffering with Alzheimer&rsquo\;s. Gayle\, and her incredibly talented friends\, will perform selections from both opera and other musical styles that garnered her a standing ovation on Muckenthaler&#39\;s stage last year.&nbsp\;In partnership with Alzheimer&rsquo\;s Orange County.</p>\n
LOCATION:The Muckenthaler Cultural Center 1201 W Malvern Ave Fullerton\, CA 92833
UID:e.887.23636
SEQUENCE:3
DTSTAMP:20260422T015651Z
URL:https://business.nocchamber.com/events/details/music-and-memories-in-the-making-at-the-muck-23636
END:VEVENT

END:VCALENDAR
