BEGIN:VCALENDAR
VERSION:2.0
PRODID:-//ChamberMaster//Event Calendar 2.0//EN
METHOD:PUBLISH
X-PUBLISHED-TTL:P3D
REFRESH-INTERVAL:P3D
CALSCALE:GREGORIAN
BEGIN:VEVENT
DTSTART:20190915T010000Z
DTEND:20190915T020000Z
X-MICROSOFT-CDO-ALLDAYEVENT:FALSE
SUMMARY:Museum of Teaching and Learning Exhibit: A Class Action
DESCRIPTION:The City of Buena Park's Community Services Department in partnership with The Museum of Teaching and Learning (MOTAL)\, the Fine Arts Division and the Senior & Human Services Division\, is proud to present A Class Action: The Grassroots Struggle for School Desegregation in California.\n\nIn March 1945\, five fathers in Orange County\, California\, brought a class-action lawsuit against four school districts on behalf of their own children and 5\,000 other children that were being forced to attend segregated "Mexican schools." This exhibition tells the story of their landmark lawsuit\, Mendez et al. v. Westminster School District et al.\n\nExhibition features include photographs and items from all plaintiff families\, interactive elements and oral histories\, docent-led tours\, and a space for community dialogue and civic engagement.
X-ALT-DESC;FMTTYPE=text/html:<p>The City of Buena Park&rsquo\;s Community Services Department in partnership with The Museum of Teaching and Learning (MOTAL)\, the Fine Arts Division and the Senior &amp\; Human Services Division\, is proud to present A Class Action: The Grassroots Struggle for School Desegregation in California.</p>\n\n<p>In March 1945\, five fathers in Orange County\, California\, brought a class-action lawsuit against four school districts on behalf of their own children and 5\,000 other children that were being forced to attend segregated &ldquo\;Mexican schools.&rdquo\; This exhibition&nbsp\;tells&nbsp\;the story of their landmark lawsuit\,&nbsp\;Mendez et al. v. Westminster School District et al.</p>\n\n<p>Exhibition features include photographs and items from all plaintiff families\, interactive elements and oral histories\, docent-led tours\, and a space for community dialogue and civic engagement.</p>\n
LOCATION:Ehlers Event Center 8150 Knott Ave. Buena Park\, CA 90620
UID:e.887.23698
SEQUENCE:3
DTSTAMP:20260422T001656Z
URL:https://business.nocchamber.com/events/details/museum-of-teaching-and-learning-exhibit-a-class-action-23698
END:VEVENT

END:VCALENDAR
