BEGIN:VCALENDAR
VERSION:2.0
PRODID:-//ChamberMaster//Event Calendar 2.0//EN
METHOD:PUBLISH
X-PUBLISHED-TTL:P3D
REFRESH-INTERVAL:P3D
CALSCALE:GREGORIAN
BEGIN:VEVENT
DTSTART:20190524T023000Z
DTEND:20190524T050000Z
X-MICROSOFT-CDO-ALLDAYEVENT:FALSE
SUMMARY:Muckenthaler Jazz Festival: Vocalist Andy James
DESCRIPTION:Vibes Summit\n\nVocalist Andy James and her Octet\, feat. Lolly Allen\n\n$30 at the door \n\nAndy James' debut\, Caravan\, resides in the smoky elegance of the classic 1930-1950s female swing vocal tradition\, recalling high-watermark recordings by Sarah Vaughan\, Peggy Lee\, Ella Fitzgerald\, and Julie London.
X-ALT-DESC;FMTTYPE=text/html:<p>Vibes Summit</p>\n\n<p>Vocalist Andy James and her Octet\, feat. Lolly Allen</p>\n\n<p><a href="https://themuck.org/programing/2019/5/23/jazz-fest-vocalist-andy-james-and-her-octet-feat-lolly-allen">$30 at the door&nbsp\;</a></p>\n\n<p>Andy James&rsquo\; debut\, Caravan\, resides in the smoky elegance of the classic 1930-1950s female swing vocal tradition\, recalling high-watermark recordings by Sarah Vaughan\, Peggy Lee\, Ella Fitzgerald\, and Julie London.</p>\n
LOCATION:The Muckenthaler Cultural Center 1201 W. Malvern Ave\, Fullerton\, CA 92833
UID:e.887.23287
SEQUENCE:3
DTSTAMP:20260422T054806Z
URL:https://business.nocchamber.com/events/details/muckenthaler-jazz-festival-vocalist-andy-james-23287
END:VEVENT

END:VCALENDAR
