BEGIN:VCALENDAR
VERSION:2.0
PRODID:-//ChamberMaster//Event Calendar 2.0//EN
METHOD:PUBLISH
X-PUBLISHED-TTL:P3D
REFRESH-INTERVAL:P3D
CALSCALE:GREGORIAN
BEGIN:VEVENT
DTSTART:20190531T023000Z
DTEND:20190531T050000Z
X-MICROSOFT-CDO-ALLDAYEVENT:FALSE
SUMMARY:Muckenthaler Jazz Festival: Joe La Barbera Quintet feat. Bob Sheppard and Clay Jenkins
DESCRIPTION:Post Bop Jazz\n\nJoe La Barbera Quintet feat. Bob Sheppard and Clay Jenkins\n\n$30 at the door\n\n"..La Barbera's own solos display plenty of chops as he does variations on classic bebop phrases\, but it's the musicality that lingers in the memory after the specific licks have passed by." \n\n  Modern Drummer
X-ALT-DESC;FMTTYPE=text/html:<p>Post Bop Jazz</p>\n\n<p>Joe La Barbera Quintet feat. Bob Sheppard <em>and</em> Clay Jenkins</p>\n\n<p><a href="https://themuck.org/programing/2019/5/30/jazz-fest-joe-la-barbera-quintet-feat-bob-sheppard-and-clay-jenkins">$30 at the door</a></p>\n\n<p>&ldquo\;..La Barbera&rsquo\;s own solos display plenty of chops as he does variations on classic bebop phrases\, but it&rsquo\;s the musicality that lingers in the memory after the specific licks have passed by.&rdquo\;&nbsp\;</p>\n\n<p>&mdash\; <em>Modern Drummer</em></p>\n
LOCATION:The Muckenthaler Cultural Center 1201 W. Malvern Ave\, Fullerton\, CA 92833
UID:e.887.23288
SEQUENCE:3
DTSTAMP:20260422T055153Z
URL:https://business.nocchamber.com/events/details/muckenthaler-jazz-festival-joe-la-barbera-quintet-feat-bob-sheppard-and-clay-jenkins-23288
END:VEVENT

END:VCALENDAR
