BEGIN:VCALENDAR
VERSION:2.0
PRODID:-//ChamberMaster//Event Calendar 2.0//EN
METHOD:PUBLISH
X-PUBLISHED-TTL:P3D
REFRESH-INTERVAL:P3D
CALSCALE:GREGORIAN
BEGIN:VEVENT
DTSTART:20190615T023000Z
DTEND:20190615T050000Z
X-MICROSOFT-CDO-ALLDAYEVENT:FALSE
SUMMARY:Muckenthaler Jazz Festival - Eric Reed Trio
DESCRIPTION:Eric Reed Trio\n\nModern\, Classic\, Mainstream\n\n "Pianist Eric Reed first gained attention as a teenager playing with Wynton Marsalis. He later collaborated with jazz luminaries like Cassandra Wilson and Dianne Reeves. Now\, after almost 20 years on the New York scene\, Reed has returned to Southern California   and he's as busy as ever."\n\n  Andrew Gilbert\, Audio Review: CA Report
X-ALT-DESC;FMTTYPE=text/html:<p>Eric Reed Trio</p>\n\n<p>Modern<span style="color:rgb(0\, 0\, 0)\; font-family:helvetica neue\,arial\,sans-serif\; font-size:16px">\, </span>Classic<span style="color:rgb(0\, 0\, 0)\; font-family:helvetica neue\,arial\,sans-serif\; font-size:16px">\, </span>Mainstream</p>\n\n<p>&nbsp\;&ldquo\;Pianist Eric Reed first gained attention as a teenager playing with Wynton Marsalis. He later collaborated with jazz luminaries like Cassandra Wilson and Dianne Reeves. Now\, after almost 20 years on the New York scene\, Reed has returned to Southern California &mdash\; and he&rsquo\;s as busy as ever.&rdquo\;</p>\n\n<p>&mdash\; Andrew Gilbert\, <em>Audio Review: CA Report</em></p>\n
LOCATION:The Muckenthaler Cultural Center 1201 W. Malvern Ave\, Fullerton\, CA 92833
UID:e.887.23286
SEQUENCE:3
DTSTAMP:20260422T042408Z
URL:https://business.nocchamber.com/events/details/muckenthaler-jazz-festival-eric-reed-trio-23286
END:VEVENT

END:VCALENDAR
