BEGIN:VCALENDAR
VERSION:2.0
PRODID:-//ChamberMaster//Event Calendar 2.0//EN
METHOD:PUBLISH
X-PUBLISHED-TTL:P3D
REFRESH-INTERVAL:P3D
CALSCALE:GREGORIAN
BEGIN:VEVENT
DTSTART:20190915T010000Z
DTEND:20190915T050000Z
X-MICROSOFT-CDO-ALLDAYEVENT:FALSE
SUMMARY:Muckenthaler Gala: Life on the Mississippi
DESCRIPTION:Travel down the Mighty Mississippi from St. Louis to New Orleans. Meet a parcel of rogues\, saloon girls\, frontier's men\, gamblers\, gunfighters\, con men\, and Southern Belles that call the river home. Dance to the live Dixieland band\, try your hand at games of chance\, and have a shot in the "Saloon" as The Muck again transforms into a distant location in time.
X-ALT-DESC;FMTTYPE=text/html:<p>Travel down the Mighty Mississippi from St. Louis to New Orleans. Meet a parcel of rogues\, saloon girls\, frontier&rsquo\;s men\, gamblers\, gunfighters\, con men\, and Southern Belles that call the river home. Dance to the live Dixieland band\, try your hand at games of chance\, and have a shot in the &ldquo\;Saloon&rdquo\; as The Muck again transforms into a distant location in time.</p>\n
LOCATION:The Muckenthaler Cultural Center 1201 W Malvern Ave Fullerton\, CA 92833
UID:e.887.23641
SEQUENCE:3
DTSTAMP:20260422T002143Z
URL:https://business.nocchamber.com/events/details/muckenthaler-gala-life-on-the-mississippi-23641
END:VEVENT

END:VCALENDAR
