BEGIN:VCALENDAR
VERSION:2.0
PRODID:-//ChamberMaster//Event Calendar 2.0//EN
METHOD:PUBLISH
X-PUBLISHED-TTL:P3D
REFRESH-INTERVAL:P3D
CALSCALE:GREGORIAN
BEGIN:VEVENT
DTSTART:20191206T023000Z
DTEND:20191206T040000Z
X-MICROSOFT-CDO-ALLDAYEVENT:FALSE
SUMMARY:Muckenthaler Fullerton - Heriberto Luna Gallery Tour
DESCRIPTION:The grandchild of one of Zapata's revolutionary soldiers and a traditional Mayan shaman\, Heriberto Luna embraces his colorful Mexican ancestry in dazzling paintings that draw inspiration from pre-Columbian art and culture. Patterns with roots in ancient temple hieroglyphics assemble to form hummingbirds\, jaguars\, and the mythical beings who mediate between humans and the powerful forces of the natural world.\n\n\n\nExhibit Dates:  October 27 - December 29\, 2019
X-ALT-DESC;FMTTYPE=text/html:The grandchild of one of Zapata&rsquo\;s revolutionary soldiers and a traditional Mayan shaman\, Heriberto Luna embraces his colorful Mexican ancestry in dazzling paintings that draw inspiration from pre-Columbian art and culture. Patterns with roots in ancient temple hieroglyphics assemble to form hummingbirds\, jaguars\, and the mythical beings who mediate between humans and the powerful forces of the natural world.<br />\n<br />\n<u>Exhibit Dates</u>:&nbsp\; October 27 - December 29\, 2019
LOCATION:The Muckenthaler Cultural Center 1201 W. Malvern Avenue Fullerton\, CA 92833
UID:e.887.23826
SEQUENCE:3
DTSTAMP:20260421T202907Z
URL:https://business.nocchamber.com/events/details/muckenthaler-fullerton-heriberto-luna-gallery-tour-23826
END:VEVENT

END:VCALENDAR
