BEGIN:VCALENDAR
VERSION:2.0
PRODID:-//ChamberMaster//Event Calendar 2.0//EN
METHOD:PUBLISH
X-PUBLISHED-TTL:P3D
REFRESH-INTERVAL:P3D
CALSCALE:GREGORIAN
BEGIN:VEVENT
DTSTART:20200524T013000Z
DTEND:20200524T050000Z
X-MICROSOFT-CDO-ALLDAYEVENT:FALSE
SUMMARY:Muckenthaler Fullerton - Drive-In Movie Night
DESCRIPTION:Join the Muckenthaler on Saturday\, May 23rd as they join forces with The Frida Cinema to bring you a social-distance-friendly evening of cinema under the stars: Drive-In Movie Night at The Muck. Pack up your car with your favorite goodies and come on out for Rob Reiner?s 1987 classic The Princess Bride.\n\n\n\nTickets for this special event go on sale Tuesday\, May 19th at 12:00 p.m. Tickets will be $20 per car\, regardless of number of people in your car\, and will be available exclusively online at www.thefridacinema.org.\n\n\n\nClick here for more information.
X-ALT-DESC;FMTTYPE=text/html:Join the Muckenthaler on Saturday\, May 23rd as they join forces with The Frida Cinema to bring you a social-distance-friendly evening of cinema under the stars: Drive-In Movie Night at The Muck. Pack up your car with your favorite goodies and come on out for Rob Reiner?s 1987 classic <strong>The Princess Bride.</strong><br />\n<br />\nTickets for this special event go on sale Tuesday\, May 19th at 12:00 p.m. Tickets will be $20 per car\, regardless of number of people in your car\, and will be available exclusively online at <strong><a href="https://thefridacinema.org/" target="_blank">www.thefridacinema.org</a>.</strong><br />\n<br />\n<strong><a href="https://themuck.org/programing/2020-drive-in" target="_blank">Click here for more information.</a></strong>
LOCATION:Muckenthaler Cultural Center 1201 W Malvern Ave. Fullerton\, CA 92833
UID:e.887.24352
SEQUENCE:3
DTSTAMP:20260421T153542Z
URL:https://business.nocchamber.com/events/details/muckenthaler-fullerton-drive-in-movie-night-24352
END:VEVENT

END:VCALENDAR
