BEGIN:VCALENDAR
VERSION:2.0
PRODID:-//ChamberMaster//Event Calendar 2.0//EN
METHOD:PUBLISH
X-PUBLISHED-TTL:P3D
REFRESH-INTERVAL:P3D
CALSCALE:GREGORIAN
BEGIN:VEVENT
DTSTART:20200509T190000Z
DTEND:20200509T230000Z
X-MICROSOFT-CDO-ALLDAYEVENT:FALSE
SUMMARY:Muckenthaler Fullerton - Automotive Art II Show
DESCRIPTION:The Muckenthaler Center's Automotive Art Show was such a hit last year as a companion to their annual Muckenthaler Motor Car Festival\, that they are bringing it back for 2020. New artists\, different works\, same dedication to creating a show.
X-ALT-DESC;FMTTYPE=text/html:The Muckenthaler Center&#39\;s Automotive Art Show was such a hit last year as a companion to their annual Muckenthaler Motor Car Festival\, that they are bringing it back for 2020. New artists\, different works\, same dedication to creating a show.&nbsp\;
LOCATION:The Muckenthaler Cultural Center 1201 W. Malvern Ave. Fullerton\, CA 92833
UID:e.887.24152
SEQUENCE:3
DTSTAMP:20260421T144315Z
URL:https://business.nocchamber.com/events/details/muckenthaler-fullerton-automotive-art-ii-show-05-09-2020-24152
END:VEVENT

END:VCALENDAR
