BEGIN:VCALENDAR
VERSION:2.0
PRODID:-//ChamberMaster//Event Calendar 2.0//EN
METHOD:PUBLISH
X-PUBLISHED-TTL:P3D
REFRESH-INTERVAL:P3D
CALSCALE:GREGORIAN
BEGIN:VEVENT
DTSTART:20181019T023000Z
DTEND:20181019T040000Z
X-MICROSOFT-CDO-ALLDAYEVENT:FALSE
SUMMARY:Muckenthaler Cultural Center - Robert Yacko "Opening Doors"
DESCRIPTION:The Muckenthaler Cultural Center will be hosting Robert Yacko's "Opening Doors" Performance.
X-ALT-DESC;FMTTYPE=text/html:The Muckenthaler Cultural Center will be hosting <strong>Robert Yacko&#39\;s &quot\;Opening Doors&quot\; Performance.&nbsp\;</strong>
LOCATION:The Muckenthaler Cultural Center 1201 W. Malvern Ave. Fullerton\, CA 92833
UID:e.887.22708
SEQUENCE:3
DTSTAMP:20260422T140822Z
URL:https://business.nocchamber.com/events/details/muckenthaler-cultural-center-robert-yacko-opening-doors-22708
END:VEVENT

END:VCALENDAR
