BEGIN:VCALENDAR
VERSION:2.0
PRODID:-//ChamberMaster//Event Calendar 2.0//EN
METHOD:PUBLISH
X-PUBLISHED-TTL:P3D
REFRESH-INTERVAL:P3D
CALSCALE:GREGORIAN
BEGIN:VEVENT
DTSTART:20190308T033000Z
DTEND:20190308T050000Z
X-MICROSOFT-CDO-ALLDAYEVENT:FALSE
SUMMARY:Muckenthaler Cultural Center - ManTrap (Silent Movie Night)
DESCRIPTION:Award-winning composer Michael Mortilla accompanies the 1926 silent movie\, ManTrap.
X-ALT-DESC;FMTTYPE=text/html:<p>Award-winning composer Michael Mortilla accompanies the 1926 silent&nbsp\;movie\, <em>ManTrap</em>.</p>\n
LOCATION:Muckenthaler Cultural Center 1201 West Malvern Ave. Fullerton\, CA 92833
UID:e.887.22915
SEQUENCE:3
DTSTAMP:20260422T081032Z
URL:https://business.nocchamber.com/events/details/muckenthaler-cultural-center-mantrap-silent-movie-night-22915
END:VEVENT

END:VCALENDAR
