BEGIN:VCALENDAR
VERSION:2.0
PRODID:-//ChamberMaster//Event Calendar 2.0//EN
METHOD:PUBLISH
X-PUBLISHED-TTL:P3D
REFRESH-INTERVAL:P3D
CALSCALE:GREGORIAN
BEGIN:VEVENT
DTSTART:20181209T210000Z
DTEND:20181209T230000Z
X-MICROSOFT-CDO-ALLDAYEVENT:FALSE
SUMMARY:Muckenthaler Cultural Center - It’s A Wonderful Life: The Radio Play
DESCRIPTION:The Muckenthaler Cultural Center hosts The Radio Play station's last live show by playing a live radio version of Frank Capra's It's a Wonderful Life.
X-ALT-DESC;FMTTYPE=text/html:The Muckenthaler Cultural Center hosts The Radio Play station&#39\;s last live show by playing a live radio version of Frank Capra&#39\;s It&#39\;s a Wonderful Life.&nbsp\;
LOCATION:Muckenthaler Cultural Center 1201 West Malvern Ave. Fullerton\, CA 92833
UID:e.887.22837
SEQUENCE:3
DTSTAMP:20260422T120155Z
URL:https://business.nocchamber.com/events/details/muckenthaler-cultural-center-it-s-a-wonderful-life-the-radio-play-22837
END:VEVENT

END:VCALENDAR
