BEGIN:VCALENDAR
VERSION:2.0
PRODID:-//ChamberMaster//Event Calendar 2.0//EN
METHOD:PUBLISH
X-PUBLISHED-TTL:P3D
REFRESH-INTERVAL:P3D
CALSCALE:GREGORIAN
BEGIN:VEVENT
DTSTART:20181216T200000Z
DTEND:20181217T000000Z
X-MICROSOFT-CDO-ALLDAYEVENT:FALSE
SUMMARY:Muckenthaler Cultural Center - Holiday Festival
DESCRIPTION:The Muckenthaler Cultural Center will be hosting a Holiday Festival to celebrate the holiday season:\n\n	Family-friendly activities\n	Live music\n	Free art workshops for children\n	Arts and crafts sale\n	Special appearance by Santa Claus
X-ALT-DESC;FMTTYPE=text/html:The Muckenthaler Cultural Center will be hosting a <strong>Holiday Festival</strong> to celebrate the holiday season:\n<ul>\n	<li>Family-friendly activities</li>\n	<li>Live music</li>\n	<li>Free art workshops for children</li>\n	<li>Arts and crafts sale</li>\n	<li>Special appearance by Santa Claus</li>\n</ul>\n
LOCATION:The Muckenthaler Cultural Center 1201 W. Malvern Ave. Fullerton\, CA 92833
UID:e.887.22778
SEQUENCE:3
DTSTAMP:20260422T120120Z
URL:https://business.nocchamber.com/events/details/muckenthaler-cultural-center-holiday-festival-22778
END:VEVENT

END:VCALENDAR
