BEGIN:VCALENDAR
VERSION:2.0
PRODID:-//ChamberMaster//Event Calendar 2.0//EN
METHOD:PUBLISH
X-PUBLISHED-TTL:P3D
REFRESH-INTERVAL:P3D
CALSCALE:GREGORIAN
BEGIN:VEVENT
DTSTART:20180414T153000Z
DTEND:20180414T220000Z
X-MICROSOFT-CDO-ALLDAYEVENT:FALSE
SUMMARY:Move More\, Eat Healthy 5K Walk 2018
DESCRIPTION:Join the Move More\, Eat Healthy campaign quest from CSUF Center for Healthy Neighborhoods/ Richman Park (320 West Elm Ave.\, Fullerton\, CA 92832) to Fullerton's Downtown Plaza located at 125 East Wilshire Avenue\, Fullerton\, CA 92832 for the annual Faces of Fullerton event.\n\nRegistration will take place from 8:30 a.m. -9:30 am.\n\nKickoff for the walk will begin at 9:30 a.m.\n\nDirections:\n\n\n	\n	Head East on Highland\, towards Valencia Drive.\n	\n	\n	Turn Right on Wilshire and head towards Harbor St.\n	\n\n\nDestination to the left at:\n\nFullerton Downtown Plaza\n\n125 East Wilshire Avenue\n\nFullerton\, CA 92832
X-ALT-DESC;FMTTYPE=text/html:<p>Join the Move More\, Eat Healthy campaign quest from CSUF Center for Healthy Neighborhoods/ Richman Park (320 West Elm Ave.\, Fullerton\, CA 92832) to Fullerton&#39\;s Downtown Plaza located at&nbsp\;125 East Wilshire Avenue\, Fullerton\, CA 92832&nbsp\;for the annual Faces of Fullerton event.</p>\n\n<p>Registration will take place from 8:30 a.m. -9:30 am.<br />\nKickoff for the walk will begin at 9:30 a.m.<br />\nDirections:</p>\n\n<ul>\n	<li>\n	<p>Head East on Highland\, towards Valencia Drive.</p>\n	</li>\n	<li>\n	<p>Turn Right on Wilshire and head towards Harbor St.</p>\n	</li>\n</ul>\n\n<p>Destination to the left at:<br />\nFullerton Downtown Plaza<br />\n125 East Wilshire Avenue<br />\nFullerton\, CA 92832<br />\n&nbsp\;</p>\n&nbsp\;\n\n<h2 style="padding:10px 0px 0px\;color:rgb(40\, 44\, 53)\;font-size:20px\;line-height:30px\;font-weight:600\;font-family:Benton Sans\, -apple-system\, BlinkMacSystemFont\, Roboto\, Helvetica Neue\, Helvetica\, Tahoma\, Arial\, sans-serif\;letter-spacing:0.5px\;">&nbsp\;</h2>\n<br style="padding-top:0px\;" />\n&nbsp\;
LOCATION:Richman Park 320 West Elm Ave. Fullerton\, CA 92832
UID:e.887.18237
SEQUENCE:3
DTSTAMP:20260422T021439Z
URL:https://business.nocchamber.com/events/details/move-more-eat-healthy-5k-walk-2018-18237
END:VEVENT

END:VCALENDAR
