BEGIN:VCALENDAR
VERSION:2.0
PRODID:-//ChamberMaster//Event Calendar 2.0//EN
METHOD:PUBLISH
X-PUBLISHED-TTL:P3D
REFRESH-INTERVAL:P3D
CALSCALE:GREGORIAN
BEGIN:VEVENT
DTSTART:20260329T000000Z
DTEND:20260329T020000Z
X-MICROSOFT-CDO-ALLDAYEVENT:FALSE
SUMMARY:MOTAL: Celeb Salon #9
DESCRIPTION:
X-ALT-DESC;FMTTYPE=text/html:
LOCATION:Museum of Teaching & Learning 247 E Amerige Ave\, Fullerton\, CA 92832
UID:e.887.26379
SEQUENCE:3
DTSTAMP:20260421T093544Z
URL:https://business.nocchamber.com/events/details/motal-celeb-salon-9-26379
END:VEVENT

END:VCALENDAR
