BEGIN:VCALENDAR
VERSION:2.0
PRODID:-//ChamberMaster//Event Calendar 2.0//EN
METHOD:PUBLISH
X-PUBLISHED-TTL:P3D
REFRESH-INTERVAL:P3D
CALSCALE:GREGORIAN
BEGIN:VEVENT
DTSTART:20170707T190000Z
DTEND:20170707T200000Z
X-MICROSOFT-CDO-ALLDAYEVENT:FALSE
SUMMARY:Meet & Greet with Senator Janet Nguyen
DESCRIPTION:Senator Janet Nguyen hosts a Meet and Greet for OCAR and PWR members\, heavy appetizers and soft drinks will be served. Senator Nguyen represents more than 925\,000 residents in California's 34th Senate District\, which encompasses the Cities of Fountain Valley\, Garden Grove\, Los Alamitos\, Santa Ana\, Seal Beach\, Westminster\, unincorporated communities of Midway City and Rossmoor and portions of Anaheim\, Huntington Beach\, Long Beach\, and Orange.
X-ALT-DESC;FMTTYPE=text/html:Senator Janet Nguyen hosts a Meet and Greet for OCAR and PWR members\, heavy appetizers and soft drinks will be served.&nbsp\;Senator Nguyen represents more than 925\,000 residents in California&#39\;s 34th Senate District\, which encompasses the Cities of Fountain Valley\, Garden Grove\, Los Alamitos\, Santa Ana\, Seal Beach\, Westminster\, unincorporated communities of Midway City and Rossmoor and portions of Anaheim\, Huntington Beach\, Long Beach\, and Orange.
LOCATION:Caf and Te 9430 Warner Ave A Fountain Valley\, CA 92708
UID:e.887.16166
SEQUENCE:3
DTSTAMP:20260421T003158Z
URL:https://business.nocchamber.com/events/details/meet-greet-with-senator-janet-nguyen-16166
END:VEVENT

END:VCALENDAR
