BEGIN:VCALENDAR
VERSION:2.0
PRODID:-//ChamberMaster//Event Calendar 2.0//EN
METHOD:PUBLISH
X-PUBLISHED-TTL:P3D
REFRESH-INTERVAL:P3D
CALSCALE:GREGORIAN
BEGIN:VEVENT
DTSTART:20191102T013000Z
DTEND:20191102T060000Z
X-MICROSOFT-CDO-ALLDAYEVENT:FALSE
SUMMARY:Medieval Times & SLDC - Poker Night
DESCRIPTION:Medieval Times and SLDC are hosting an exclusive amateur Texas hold'em tournament to support the children and adults of SLDC.  If you don't play poker\, there will be other casino games such as Blackjack and Roulette. There will also be raffles and food services.
X-ALT-DESC;FMTTYPE=text/html:<p>Medieval Times and SLDC&nbsp\;are hosting an&nbsp\;exclusive&nbsp\;amateur Texas hold&rsquo\;em tournament to support the children and adults of SLDC.&#8203\; If you don&#39\;t play poker\, there will be other casino games such as Blackjack and Roulette. There will also be raffles and food services.<br />\n&nbsp\;</p>\n
LOCATION:Medieval Times 7662 Beach Blvd. Buena Park\, CA 90620
UID:e.887.23753
SEQUENCE:3
DTSTAMP:20260421T214155Z
URL:https://business.nocchamber.com/events/details/medieval-times-sldc-poker-night-23753
END:VEVENT

END:VCALENDAR
