BEGIN:VCALENDAR
VERSION:2.0
PRODID:-//ChamberMaster//Event Calendar 2.0//EN
METHOD:PUBLISH
X-PUBLISHED-TTL:P3D
REFRESH-INTERVAL:P3D
CALSCALE:GREGORIAN
BEGIN:VEVENT
DTSTART;VALUE=DATE:20190407
DTEND;VALUE=DATE:20190408
TRANSP:TRANSPARENT
X-MICROSOFT-CDO-ALLDAYEVENT:TRUE
SUMMARY:Matador Cantina & Cocina 10th Anniversary
DESCRIPTION:Matador Cantina 10 Year Anniversary!\n\n\n\n Enjoy food and drink specials all night\, plus live music\, giveaways and prizes! Sunday\, April 7th from 5:30pm-8:30pm. Walk-ins available\, reservations strongly recommended at 714.871.8226
X-ALT-DESC;FMTTYPE=text/html:<span style="font-size:14px\;">Matador Cantina 10 Year Anniversary!<br />\n<br />\n<span style="color:maroon\;"><span style="font-family:arial\,sans-serif\;">&nbsp\;Enjoy food and drink specials all night\, plus live music\, giveaways and prizes! Sunday\, April 7th from 5:30pm-8:30pm.&nbsp\;Walk-ins available\, reservations strongly recommended&nbsp\;at 714.871.8226&nbsp\;</span></span></span>
LOCATION:111 N. Harbor Blvd\, Fullerton
UID:e.887.23104
SEQUENCE:3
DTSTAMP:20260422T080827Z
URL:https://business.nocchamber.com/events/details/matador-cantina-cocina-10th-anniversary-23104
END:VEVENT

END:VCALENDAR
