BEGIN:VCALENDAR
VERSION:2.0
PRODID:-//ChamberMaster//Event Calendar 2.0//EN
METHOD:PUBLISH
X-PUBLISHED-TTL:P3D
REFRESH-INTERVAL:P3D
CALSCALE:GREGORIAN
BEGIN:VEVENT
DTSTART:20190915T003000Z
DTEND:20190915T050000Z
X-MICROSOFT-CDO-ALLDAYEVENT:FALSE
SUMMARY:Marshall B. Ketchum University Gala Celebration
DESCRIPTION:Marshall B. Ketchum University is hosting its Gala Celebration on Saturday\, September 14\, 2019 at the Bowers Museum in Santa Ana. The event will honor alumni\, benefactors and community partners. MBKU appreciates the support that has been given to them through sponsorships or underwriting. These opportunities show support for the university's programs\, while at the same time receiving recognition for your business or family. MBKU is expecting 200 - 300 guests to celebrate and support the university and its diverse and multi-disciplinary educational programs while also recognizing and celebrating its honorees.\nThis signature fundraising and recognition event benefits Marshall B. Ketchum University's\n\n\n	Southern California College of Optometry\n	School of Physician Assistant Studies\n	College of Pharmacy\n	University Eye Centers at Ketchum Health (Anaheim and Los Angeles)\n\n\nProceeds from the event will be donor directed to support the program of your choice.
X-ALT-DESC;FMTTYPE=text/html:Marshall B. Ketchum University is hosting its Gala Celebration on Saturday\, September 14\, 2019 at the Bowers Museum in Santa Ana. The event will honor alumni\, benefactors and community partners. MBKU appreciates the support that has been given to them through sponsorships or underwriting. These opportunities show support for the university&#39\;s programs\, while at the same time receiving recognition for your business or family. MBKU is expecting 200 - 300 guests to celebrate and support the university and its diverse and multi-disciplinary educational programs while also recognizing and celebrating its honorees.\n<p>This signature fundraising and recognition event benefits Marshall B. Ketchum University&#39\;s</p>\n\n<ul>\n	<li>Southern California College of Optometry</li>\n	<li>School of Physician Assistant Studies</li>\n	<li>College of Pharmacy</li>\n	<li>University Eye Centers at Ketchum Health (Anaheim and Los Angeles)</li>\n</ul>\n\n<p>Proceeds from the event will be donor directed to support the program of your choice.</p>\n
LOCATION:Bowers Museum 2002 N Main St. Santa Ana\, CA 92706
UID:e.887.23681
SEQUENCE:3
DTSTAMP:20260422T001656Z
URL:https://business.nocchamber.com/events/details/marshall-b-ketchum-university-gala-celebration-23681
END:VEVENT

END:VCALENDAR
