BEGIN:VCALENDAR
VERSION:2.0
PRODID:-//ChamberMaster//Event Calendar 2.0//EN
METHOD:PUBLISH
X-PUBLISHED-TTL:P3D
REFRESH-INTERVAL:P3D
CALSCALE:GREGORIAN
BEGIN:VEVENT
DTSTART:20180916T003000Z
DTEND:20180916T053000Z
X-MICROSOFT-CDO-ALLDAYEVENT:FALSE
SUMMARY:Marshall B. Ketchum University - Gala Celebration 2018
DESCRIPTION:The Marshall B. Ketchum University will be hosting their 8th Annual Gala Celebration event on Saturday\, September\, 2018 from 5:30 p.m. - 10:30 p.m. at the Bowers Museum\, 2002 N Main St.\, Santa Ana\, CA 92706.\n\n \n\nThe MBKU's Gala will be celebrating and honoring their alumni\, benefactors and community partners for their gifts towards student scholarships\, academic programs and underserved clinical care. \n\n \n\nSchedule:\n\n\n	5:30 p.m. - 6:30 p.m. Alumni Reunion Receptions\n	6:30 p.m. - 7:45 p.m. Gala Celebration Reception\n	7:45 p.m. - 8:45 p.m. Dinner or Sunset Soir e Reception (based on ticket level)\n	8:45 p.m. - 10:30 p.m. Dessert Reception & Dancing
X-ALT-DESC;FMTTYPE=text/html:<div>The Marshall B. Ketchum University will be hosting their <strong>8th Annual Gala Celebration</strong> event on Saturday\, September\, 2018 from&nbsp\;5:30 p.m. - 10:30 p.m.&nbsp\;at the Bowers Museum\, 2002 N Main St.\, Santa Ana\, CA 92706.<br />\n&nbsp\;</div>\n\n<div>The MBKU&rsquo\;s Gala will be celebrating and honoring their alumni\, benefactors and community partners for their gifts towards student scholarships\, academic programs and underserved clinical care.&nbsp\;</div>\n\n<div>&nbsp\;</div>\n\n<div>Schedule:</div>\n\n<ul>\n	<li>5:30 p.m. - 6:30 p.m. Alumni Reunion Receptions</li>\n	<li>6:30 p.m. - 7:45 p.m. Gala Celebration Reception</li>\n	<li>7:45 p.m. - 8:45 p.m. Dinner or Sunset Soir&eacute\;e Reception (based on ticket level)</li>\n	<li>8:45 p.m. - 10:30 p.m. Dessert Reception &amp\; Dancing</li>\n</ul>\n
LOCATION:Bowers Museum 2002 N Main St. Santa Ana\, CA 92706
UID:e.887.22616
SEQUENCE:3
DTSTAMP:20260422T142631Z
URL:https://business.nocchamber.com/events/details/marshall-b-ketchum-university-gala-celebration-2018-22616
END:VEVENT

END:VCALENDAR
