BEGIN:VCALENDAR
VERSION:2.0
PRODID:-//ChamberMaster//Event Calendar 2.0//EN
METHOD:PUBLISH
X-PUBLISHED-TTL:P3D
REFRESH-INTERVAL:P3D
CALSCALE:GREGORIAN
BEGIN:VEVENT
DTSTART:20200717T190000Z
DTEND:20200718T010000Z
X-MICROSOFT-CDO-ALLDAYEVENT:FALSE
SUMMARY:Maple Summer Playgrounds
DESCRIPTION:Maple Summer Playgrounds is a program for children ages 5-12!\n\nSummer Playgrounds will be held Monday - Friday\, July 13 - July 31. \n\nHours 12 pm - 6 pm  \n\nSummer Playgrounds includes trained staff\, arts & crafts\, sports\, FREE daily meals and more!\n\n\n\nMore Information
X-ALT-DESC;FMTTYPE=text/html:<p>Maple Summer Playgrounds is a program for children ages 5-12!<o:p></o:p></p>\n\n<p>Summer Playgrounds will be held Monday - Friday\, July 13 - July 31.&nbsp\;<o:p></o:p></p>\n\n<p>Hours 12 pm - 6 pm&nbsp\;&nbsp\;<o:p></o:p></p>\n\n<p>Summer Playgrounds includes trained staff\, arts &amp\; crafts\, sports\, FREE daily meals and more!<br />\n<br />\n<a href="https://www.cityoffullerton.com/summerplaygrounds">More Information</a><br />\n<o:p></o:p></p>\n
LOCATION:Located at the Maple Center in Lemon Park - 701 S. Lemon St.\, Fullerton. Click here to register now: http://www.fullertoneconnect.com For more information click here: https://www.cityoffullerton.com/summerplaygrounds
UID:e.887.24502
SEQUENCE:3
DTSTAMP:20260421T115851Z
URL:https://business.nocchamber.com/events/details/maple-summer-playgrounds-07-17-2020-24502
END:VEVENT

END:VCALENDAR
