BEGIN:VCALENDAR
VERSION:2.0
PRODID:-//ChamberMaster//Event Calendar 2.0//EN
METHOD:PUBLISH
X-PUBLISHED-TTL:P3D
REFRESH-INTERVAL:P3D
CALSCALE:GREGORIAN
BEGIN:VEVENT
DTSTART:20190508T183000Z
DTEND:20190508T193000Z
X-MICROSOFT-CDO-ALLDAYEVENT:FALSE
SUMMARY:Lunch With the Locals
DESCRIPTION:Join Chief Sianez and Club CEO Todd Trout for lunch\, networking and an update of the great impact the Boys & Girls Club of Buena Park is making in and around the community.
X-ALT-DESC;FMTTYPE=text/html:Join Chief Sianez and Club CEO Todd Trout for lunch\, networking and an update of the great impact the Boys &amp\; Girls Club of Buena Park is making in and around the community.
LOCATION:Buena Park Police Department-Community Room 6640 Beach Blvd\, Buena Park\, CA 90622
UID:e.887.23115
SEQUENCE:3
DTSTAMP:20260422T054149Z
URL:https://business.nocchamber.com/events/details/lunch-with-the-locals-23115
END:VEVENT

END:VCALENDAR
