BEGIN:VCALENDAR
VERSION:2.0
PRODID:-//ChamberMaster//Event Calendar 2.0//EN
METHOD:PUBLISH
X-PUBLISHED-TTL:P3D
REFRESH-INTERVAL:P3D
CALSCALE:GREGORIAN
BEGIN:VEVENT
DTSTART:20190226T193000Z
DTEND:20190226T210000Z
X-MICROSOFT-CDO-ALLDAYEVENT:FALSE
SUMMARY:Lunch & Learn: Latest News on Homelessness Initiatives in Costa Mesa
DESCRIPTION:Important information for businesses to learn how to address homelessness and utilize resources. Learn how local non-profits are helping.
X-ALT-DESC;FMTTYPE=text/html:Important information for businesses to learn how to address homelessness and utilize resources. Learn how local non-profits&nbsp\;are helping.&nbsp\;
LOCATION:Fete the Venue 3101 Red Hill Ave. Costa Mesa\, CA 92626
UID:e.887.22998
SEQUENCE:3
DTSTAMP:20260422T103509Z
URL:https://business.nocchamber.com/events/details/lunch-learn-latest-news-on-homelessness-initiatives-in-costa-mesa-22998
END:VEVENT

END:VCALENDAR
