BEGIN:VCALENDAR
VERSION:2.0
PRODID:-//ChamberMaster//Event Calendar 2.0//EN
METHOD:PUBLISH
X-PUBLISHED-TTL:P3D
REFRESH-INTERVAL:P3D
CALSCALE:GREGORIAN
BEGIN:VEVENT
DTSTART:20191007T190000Z
DTEND:20191007T203000Z
X-MICROSOFT-CDO-ALLDAYEVENT:FALSE
SUMMARY:Lunch & Learn: Accounting for Startups
DESCRIPTION:In this workshop provided by Orange County SBDC\, you will learn about which accounting software is available for small businesses that may work best for you.\n\n\n\nGet insight about free internet tools and receive handouts on tips to reduce your taxes and improve cash flow for your business.
X-ALT-DESC;FMTTYPE=text/html:<div>\n<p>In this workshop provided by Orange County SBDC\, you will learn about which accounting software is available for small businesses that may work best for you.<br />\n<br />\nGet insight about free internet tools and receive handouts on tips to reduce your taxes and improve cash flow for your business.</p>\n</div>\n
LOCATION:Digital Media Center 1300 S. Bristol St. Santa Ana\, CA 92704
UID:e.887.23730
SEQUENCE:3
DTSTAMP:20260421T225324Z
URL:https://business.nocchamber.com/events/details/lunch-learn-accounting-for-startups-23730
END:VEVENT

END:VCALENDAR
