BEGIN:VCALENDAR
VERSION:2.0
PRODID:-//ChamberMaster//Event Calendar 2.0//EN
METHOD:PUBLISH
X-PUBLISHED-TTL:P3D
REFRESH-INTERVAL:P3D
CALSCALE:GREGORIAN
BEGIN:VEVENT
DTSTART:20170429T150000Z
DTEND:20170429T210000Z
X-MICROSOFT-CDO-ALLDAYEVENT:FALSE
SUMMARY:Love Fullerton 2017
DESCRIPTION:What would happen if the entire community came together to help one another City government\, businesses\, residents\, the faith community\, service groups\, schools and sports organizations? Fullerton is adding its name to the growing list of cities who are part of OC United's "Unite for Cities" Initiative. Find out how you can make a real difference in your community.
X-ALT-DESC;FMTTYPE=text/html:<span open="" style="color: rgb(48\, 48\, 48)\; font-family: " trebuchet="">What would happen if the entire community came together to help one another&mdash\;City government\, businesses\, residents\, the faith community\, service groups\, schools and sports organizations? Fullerton is adding its name to the growing list of cities who are part of OC United&rsquo\;s &ldquo\;</span><strong open="" style="border: 0px\; margin: 0px\; padding: 0px\; -webkit-margin-before: 0px\; -webkit-margin-after: 0px\; -webkit-margin-start: 0px\; -webkit-margin-end: 0px\; color: rgb(48\, 48\, 48)\; font-family: " trebuchet=""><a href="https://ocunited.org/uniteforcities" style="border: 0px\; margin: 0px\; padding: 0px\; -webkit-margin-before: 0px\; -webkit-margin-after: 0px\; -webkit-margin-start: 0px\; -webkit-margin-end: 0px\; color: rgb(236\, 31\, 39)\; text-decoration: none\;" target="_blank">Unite for Cities</a></strong><span open="" style="color: rgb(48\, 48\, 48)\; font-family: " trebuchet="">&rdquo\; Initiative. Find out how you can make a real difference in your community.</span>
LOCATION:Downtown Fullerton Plaza 125 E. Wilshire Ave. Fullerton\, Ca. 92832
UID:e.887.15993
SEQUENCE:3
DTSTAMP:20260421T131202Z
URL:https://business.nocchamber.com/events/details/love-fullerton-2017-15993
END:VEVENT

END:VCALENDAR
