BEGIN:VCALENDAR
VERSION:2.0
PRODID:-//ChamberMaster//Event Calendar 2.0//EN
METHOD:PUBLISH
X-PUBLISHED-TTL:P3D
REFRESH-INTERVAL:P3D
CALSCALE:GREGORIAN
BEGIN:VEVENT
DTSTART:20190504T143000Z
DTEND:20190504T220000Z
X-MICROSOFT-CDO-ALLDAYEVENT:FALSE
SUMMARY:Love Buena Park
DESCRIPTION:The community is coming together in full force for Love Buena Park. Join this city-wide alliance on Saturday\, May 4\, 2019\, with hundreds of your neighbors to volunteer for the fourth annual "Love Buena Park" service day.\n\n\n\nNow is the time to submit your Love Buena Park projects. This day is all about completing projects that support residents\, service organizations\, and the City.\n\n\n\n "Love Buena Park" projects change each year\, but have included: \n\n	Revitalizing neighborhood houses\n	Beautifying yards and other landscaped areas\n	Cleaning up local school yards and youth service buildings\n	Prepping and painting small structures\n	Repairing fencing and other wood structures\n	Helping seniors and others in need with small projects\n	Picking up trash in neglected areas\n	Distributing food or hygiene kits to the homeless\n	Participating in a food drive\n	Dozens of other supportive activities\n\n\nSchedule\n\n\n\n7:30 AM   9:00 AM \n\nMorning Registration and Rally   The Source Download a Volunteer Waiver Here\n\nCheck-In\, Free T-Shirts\, Free Refreshments\n\n9:00 AM   12:30 PM \n\nService Projects\n\nClick on the link above to sign up or submit a project\n\n12:30 PM   3:00 PM \n\nLuncheon / After Party - The Source\n\nAfternoon Celebration - Music\, Free Food\, Closing Festivities
X-ALT-DESC;FMTTYPE=text/html:The community is coming together in full force for Love Buena Park. Join this city-wide alliance on Saturday\, May 4\, 2019\, with hundreds of your neighbors to volunteer for the fourth annual &ldquo\;Love Buena Park&rdquo\; service day.<br />\n<br />\nNow is the time to submit your Love Buena Park projects. This day is all about completing projects that support residents\, service organizations\, and the City.<br />\n<br />\n&nbsp\;&ldquo\;Love Buena Park&rdquo\; projects change each year\, but have included:&nbsp\;\n<ul>\n	<li>Revitalizing neighborhood houses</li>\n	<li>Beautifying yards and other landscaped areas</li>\n	<li>Cleaning up local school yards and youth service buildings</li>\n	<li>Prepping and painting small structures</li>\n	<li>Repairing fencing and other wood structures</li>\n	<li>Helping seniors and others in need with small projects</li>\n	<li>Picking up trash in neglected areas</li>\n	<li>Distributing food or hygiene kits to the homeless</li>\n	<li>Participating in a food drive</li>\n	<li>Dozens of other supportive activities</li>\n</ul>\n\n<p>Schedule<br />\n<br />\n7:30 AM &ndash\; 9:00 AM&nbsp\;<br />\nMorning Registration and Rally &ndash\; The Source <a href="http://www.buenapark.com/home/showdocument?id=14675" id="link_1524596248062" target="_blank">Download a Volunteer Waiver Here</a><br />\nCheck-In\, Free T-Shirts\, Free Refreshments</p>\n\n<p>9:00 AM &ndash\; 12:30 PM&nbsp\;<br />\nService Projects<br />\nClick on the link above to sign up or submit a project</p>\n\n<p>12:30 PM &ndash\; 3:00 PM&nbsp\;<br />\nLuncheon / After Party&nbsp\;-&nbsp\;The Source<br />\nAfternoon Celebration - Music\, Free Food\, Closing Festivities</p>\n
LOCATION:The Source 6940 Beach Blvd. Buena Park\, CA 90621
UID:e.887.23057
SEQUENCE:3
DTSTAMP:20260422T054154Z
URL:https://business.nocchamber.com/events/details/love-buena-park-05-04-2019-23057
END:VEVENT

END:VCALENDAR
