BEGIN:VCALENDAR
VERSION:2.0
PRODID:-//ChamberMaster//Event Calendar 2.0//EN
METHOD:PUBLISH
X-PUBLISHED-TTL:P3D
REFRESH-INTERVAL:P3D
CALSCALE:GREGORIAN
BEGIN:VEVENT
DTSTART:20191017T163000Z
DTEND:20191017T190000Z
X-MICROSOFT-CDO-ALLDAYEVENT:FALSE
SUMMARY:Long Beach Small Business Workshop
DESCRIPTION:This workshop\, hosted by Treasurer Fiona Ma and Long Beach Mayor Robert Garcia\, is designed to provide important free resources to small business owners to start\, grow\, and succeed in today's economy. Topics include accessing capital\, how to start your business\, complying to new legislation as a business owner\, free resources to help your small business\, and more.
X-ALT-DESC;FMTTYPE=text/html:&nbsp\;This workshop\, hosted by Treasurer Fiona Ma and Long Beach Mayor Robert Garcia\, is designed to provide important free resources to small business owners to start\, grow\, and succeed in today&#39\;s economy. Topics include accessing capital\, how to start your business\, complying to new legislation as a business owner\, free resources to help your small business\, and more.
LOCATION:Studio One Eleven 245 E. 3rd Street Long Beach\, CA\, 90802
UID:e.887.23754
SEQUENCE:3
DTSTAMP:20260421T230255Z
URL:https://business.nocchamber.com/events/details/long-beach-small-business-workshop-23754
END:VEVENT

END:VCALENDAR
