BEGIN:VCALENDAR
VERSION:2.0
PRODID:-//ChamberMaster//Event Calendar 2.0//EN
METHOD:PUBLISH
X-PUBLISHED-TTL:P3D
REFRESH-INTERVAL:P3D
CALSCALE:GREGORIAN
BEGIN:VEVENT
DTSTART:20170616T020000Z
DTEND:20170616T060000Z
X-MICROSOFT-CDO-ALLDAYEVENT:FALSE
SUMMARY:Locals only Sunset Series: Parade of Lights & Late Night Revival
DESCRIPTION:Join The Source and KROQ for their KROQ Locals Only Sunset Series. Relax on the third floor terrace of The Source while enjoying the sunset with free live music. Must be 21 and over to attend.
X-ALT-DESC;FMTTYPE=text/html:Join The Source and KROQ&nbsp\;for their&nbsp\;KROQ&nbsp\;Locals Only Sunset Series. Relax on the third floor terrace of The Source while enjoying the sunset with free live music. Must be 21 and over to attend.&nbsp\;
LOCATION:The Source OC 6940 Beach Blvd Buena Park\, CA 90621
UID:e.887.16187
SEQUENCE:3
DTSTAMP:20260421T015322Z
URL:https://business.nocchamber.com/events/details/locals-only-sunset-series-parade-of-lights-late-night-revival-16187
END:VEVENT

END:VCALENDAR
