BEGIN:VCALENDAR
VERSION:2.0
PRODID:-//ChamberMaster//Event Calendar 2.0//EN
METHOD:PUBLISH
X-PUBLISHED-TTL:P3D
REFRESH-INTERVAL:P3D
CALSCALE:GREGORIAN
BEGIN:VEVENT
DTSTART:20200625T170000Z
DTEND:20200625T180000Z
X-MICROSOFT-CDO-ALLDAYEVENT:FALSE
SUMMARY:Leverage the Cloud to Rapidly Grow Your Business
DESCRIPTION:What You Will Learn: \n\n\n	Highlights on latest business solutions you can setup\n	How other businesses are expanding\n	How to better work remotely at home\n	How to keep your scattered team better connected\n	Save your capital/cash\; leverage low monthly services\n	Keeping your remote & work files protected \n\n\nPresented by Dave Seibert. \n\nDave has over 30 years of experience and has helped 100's of business to better succeed.  He is a 7 year SCORE presenter and receives 5 stars from attendees.  Dave has a passion for technology and business. He has been honored with over 40 industry awards. He's also a Microsoft Influencer and technical MVP\, a Gartner Research advisor\, and CIO for IT Innovators\, a business technology provider serving California for 25 years.
X-ALT-DESC;FMTTYPE=text/html:<p style="margin: 0px 0px 18px\; padding: 0px\; font-family: Arial\, Helvetica\, sans-serif\; font-size: 12px\;"><span style="font-size:14px\;"><span title=""><b>What You Will Learn:</b></span>&nbsp\;</span></p>\n\n<ul style="margin: 18px 0px 18px 18px\; padding-right: 0px\; padding-left: 0px\; list-style-position: outside\; list-style-image: initial\; font-family: Arial\, Helvetica\, sans-serif\; font-size: 12px\;">\n	<li style="margin: 0px\; padding: 0px\;"><span style="font-size:14px\;"><span title="">Highlights on latest business solutions you can setup</span></span></li>\n	<li style="margin: 0px\; padding: 0px\;"><span style="font-size:14px\;"><span title="">How other businesses are expanding</span></span></li>\n	<li style="margin: 0px\; padding: 0px\;"><span style="font-size:14px\;"><span title="">How to better work remotely at home</span></span></li>\n	<li style="margin: 0px\; padding: 0px\;"><span style="font-size:14px\;"><span title="">How to keep your scattered team better connected</span></span></li>\n	<li style="margin: 0px\; padding: 0px\;"><span style="font-size:14px\;"><span title="">Save your capital/cash\; leverage low monthly services</span></span></li>\n	<li style="margin: 0px\; padding: 0px\;"><span style="font-size:14px\;"><span title="">Keeping your remote &amp\; work files protected</span>&nbsp\;</span></li>\n</ul>\n\n<p style="margin: 0px 0px 18px\; padding: 0px\; font-family: Arial\, Helvetica\, sans-serif\; font-size: 12px\;"><span style="font-size:14px\;"><span title=""><b>Presented by Dave Seibert</b>.</span>&nbsp\;</span></p>\n\n<p style="margin: 0px 0px 18px\; padding: 0px\; font-family: Arial\, Helvetica\, sans-serif\; font-size: 12px\;"><span style="font-size:14px\;"><span title="">Dave has over 30 years of experience and has helped 100&#39\;s of business to better succeed.&nbsp\;&nbsp\;He is a 7 year SCORE presenter and receives 5 stars from attendees.&nbsp\;&nbsp\;Dave has a passion for technology and business.&nbsp\;He has been honored&nbsp\;with over 40 industry awards.&nbsp\;He&#39\;s also a Microsoft Influencer and technical MVP\, a Gartner Research advisor\, and CIO for IT Innovators\, a business technology provider serving California for 25 years.</span></span></p>\n
LOCATION:Online Webinar
UID:e.887.24428
SEQUENCE:3
DTSTAMP:20260421T131546Z
URL:https://business.nocchamber.com/events/details/leverage-the-cloud-to-rapidly-grow-your-business-24428
END:VEVENT

END:VCALENDAR
