BEGIN:VCALENDAR
VERSION:2.0
PRODID:-//ChamberMaster//Event Calendar 2.0//EN
METHOD:PUBLISH
X-PUBLISHED-TTL:P3D
REFRESH-INTERVAL:P3D
CALSCALE:GREGORIAN
BEGIN:VEVENT
DTSTART:20191009T010000Z
DTEND:20191009T023000Z
X-MICROSOFT-CDO-ALLDAYEVENT:FALSE
SUMMARY:Let's Talk Jobs Special Forum
DESCRIPTION:Council Member Ahmad Zahra invites\, residents\, students\, educators\, job seekers and business owners to attend a panel discussion on jobs in the local marketplace with experts in their fields who bring unique perspectives on workforce development at a time of low unemployment while underemployment remains a challenge. This is a prelude to the OC Regional Job Fair hosted by the City of Fullerton on Oct 10th.
X-ALT-DESC;FMTTYPE=text/html:Council Member Ahmad Zahra invites\, residents\, students\, educators\, job seekers and business owners to attend a panel discussion on jobs in the local marketplace with experts in their fields who bring unique perspectives on workforce development at a time of low unemployment while underemployment remains a challenge. This is a prelude to the OC Regional Job Fair hosted by the City of Fullerton on Oct 10th.&nbsp\;
LOCATION:Fullerton Community Center\, Classroom 2 340 W. Commonwealth Ave. Fullerton\, CA\, 92832
UID:e.887.23721
SEQUENCE:3
DTSTAMP:20260421T230352Z
URL:https://business.nocchamber.com/events/details/let-s-talk-jobs-special-forum-23721
END:VEVENT

END:VCALENDAR
