BEGIN:VCALENDAR
VERSION:2.0
PRODID:-//ChamberMaster//Event Calendar 2.0//EN
METHOD:PUBLISH
X-PUBLISHED-TTL:P3D
REFRESH-INTERVAL:P3D
CALSCALE:GREGORIAN
BEGIN:VEVENT
DTSTART:20200814T000000Z
DTEND:20200814T030000Z
X-MICROSOFT-CDO-ALLDAYEVENT:FALSE
SUMMARY:Let's Talk Cannabis
DESCRIPTION:The City of Fullerton is hosting a Facebook Live Forum to discuss the City's plans regarding commercial cannabis.
X-ALT-DESC;FMTTYPE=text/html:The City of Fullerton is hosting a Facebook Live Forum to discuss&nbsp\;the City&rsquo\;s plans regarding commercial cannabis.
LOCATION:Facebook Live
UID:e.887.24573
SEQUENCE:3
DTSTAMP:20260424T064017Z
URL:https://business.nocchamber.com/events/details/let-s-talk-cannabis-24573
END:VEVENT

END:VCALENDAR
