BEGIN:VCALENDAR
VERSION:2.0
PRODID:-//ChamberMaster//Event Calendar 2.0//EN
METHOD:PUBLISH
X-PUBLISHED-TTL:P3D
REFRESH-INTERVAL:P3D
CALSCALE:GREGORIAN
BEGIN:VEVENT
DTSTART:20190209T190000Z
DTEND:20190209T223000Z
X-MICROSOFT-CDO-ALLDAYEVENT:FALSE
SUMMARY:Leon Owens Foundation - "Making Educational Dreams Come True"
DESCRIPTION:"Making Educational Dreams Come True" by Leon Owens Foundation:\n\n	Proceeds to benefit Fullerton Union High School BEAST Program in Biology\, Engineering\, Art\, Science\, and Technology\n	Entertainment provided by Saxophonist J. Boykin\n	Semi-casual attire\n\n*RSVP no later than January 26\, 2019
X-ALT-DESC;FMTTYPE=text/html:<strong>&quot\;Making Educational Dreams Come True&quot\;</strong> by Leon Owens Foundation:\n<ul>\n	<li>Proceeds to benefit Fullerton Union High School BEAST Program in Biology\, Engineering\, Art\, Science\, and Technology</li>\n	<li>Entertainment provided by Saxophonist J. Boykin</li>\n	<li>Semi-casual attire</li>\n</ul>\n*RSVP no later than January 26\, 2019
LOCATION:Anaheim White House Restaurant 887 S. Anaheim Blvd. Anaheim\, CA 92803
UID:e.887.22923
SEQUENCE:3
DTSTAMP:20260422T091001Z
URL:https://business.nocchamber.com/events/details/leon-owens-foundation-making-educational-dreams-come-true-22923
END:VEVENT

END:VCALENDAR
