BEGIN:VCALENDAR
VERSION:2.0
PRODID:-//ChamberMaster//Event Calendar 2.0//EN
METHOD:PUBLISH
X-PUBLISHED-TTL:P3D
REFRESH-INTERVAL:P3D
CALSCALE:GREGORIAN
BEGIN:VEVENT
DTSTART:20180927T000000Z
DTEND:20180927T065500Z
X-MICROSOFT-CDO-ALLDAYEVENT:FALSE
SUMMARY:Leon Owens Foundation - Heroes Restaurant Night in Support of Breast Cancer Awareness Month
DESCRIPTION:Leon Owens Foundation will be hosting Heroes Restaurant Night event in support of Breast Cancer Awareness Month. 20% of proceeds will support St. Jude Hospital Memorial Foundation's "A Walk Among The Stars" event that will be featuring cancer patients and survivors from St. Jude Medical Center.
X-ALT-DESC;FMTTYPE=text/html:<span style="color:#232323\;"><span style="font-family:arial\,sans-serif\;"><span style="font-size:10.0pt\;">Leon Owens Foundation will be hosting H<strong>eroes&nbsp\;</strong><strong>Restaurant Night event in support of Breast Cancer Awareness Month.&nbsp\;</strong><span style="color:#232323\;"><span style="font-family:arial\,sans-serif\;"><span style="font-size:10.0pt\;">20% of proceeds will support St. Jude Hospital Memorial Foundation&#39\;s &quot\;A Walk Among The Stars&quot\; event that will be f<span style="color:#232323\;"><span style="font-family:arial\,sans-serif\;"><span style="font-size:10.0pt\;">eaturing cancer patients and survivors from St. Jude Medical Center.</span></span></span></span></span></span></span></span></span>
LOCATION:Heroes Bar & Grill 125 W. Santa Fe Ave. Fullerton\, CA 92832
UID:e.887.22652
SEQUENCE:3
DTSTAMP:20260422T111812Z
URL:https://business.nocchamber.com/events/details/leon-owens-foundation-heroes-restaurant-night-in-support-of-breast-cancer-awareness-month-22652
END:VEVENT

END:VCALENDAR
