BEGIN:VCALENDAR
VERSION:2.0
PRODID:-//ChamberMaster//Event Calendar 2.0//EN
METHOD:PUBLISH
X-PUBLISHED-TTL:P3D
REFRESH-INTERVAL:P3D
CALSCALE:GREGORIAN
BEGIN:VEVENT
DTSTART:20181104T000000Z
DTEND:20181104T030000Z
X-MICROSOFT-CDO-ALLDAYEVENT:FALSE
SUMMARY:Leon Owens Foundation - College Bingo Night
DESCRIPTION:The Leon Owens Foundation will be hosting a College Bingo Night at the Hotel Fullerton. \n\n\n\n5:00 p.m. - Doors open\n\n5:30 p.m. - 6:45 p.m. - Silent Auction\n\n7:00 p.m. - Bingo
X-ALT-DESC;FMTTYPE=text/html:The Leon Owens Foundation will be hosting a College Bingo Night at the Hotel Fullerton.&nbsp\;<br />\n<br />\n5:00 p.m. - Doors open<br />\n5:30 p.m. - 6:45 p.m. - Silent Auction<br />\n7:00 p.m. - Bingo
LOCATION:The Hotel Fullerton 1500 S. Raymond Ave. Fullerton\, CA 92831
UID:e.887.22764
SEQUENCE:3
DTSTAMP:20260422T125040Z
URL:https://business.nocchamber.com/events/details/leon-owens-foundation-college-bingo-night-22764
END:VEVENT

END:VCALENDAR
