BEGIN:VCALENDAR
VERSION:2.0
PRODID:-//ChamberMaster//Event Calendar 2.0//EN
METHOD:PUBLISH
X-PUBLISHED-TTL:P3D
REFRESH-INTERVAL:P3D
CALSCALE:GREGORIAN
BEGIN:VEVENT
DTSTART:20190603T160000Z
DTEND:20190604T010000Z
X-MICROSOFT-CDO-ALLDAYEVENT:FALSE
SUMMARY:Leon Owens Foundation Celebrity Charity Golf Tournament and Scholarship Fundraiser
DESCRIPTION:The Leon Owens Foundation is hosting the Annual Celebrity Charity Golf Tournament and Scholarship Fundraiser at the the beautiful Alta Vista Country Club in Placentia. There will be a Awards Banquet in the afternoon with great food\, live entertainment\, a Live & Silent Auction\; raffle priizes and door prizes. Proceeds from this event will benefit the Leon Owens Foundation Scholarship Fund. Your support will continue our efforts in providing college scholarships\; assist local schools (grades K-12th) in the areas of STEM\, BEAST\, Academic Camps\, Cultural field trips\, sports\, dance and music. Our accomplishments are achieved due to the amazing supporters who share the commitment to impact the educational future of students and serve our community.\n\n\n\nPlease plan to join on Monday\, June 3rd and be part of "Making A Difference Together".
X-ALT-DESC;FMTTYPE=text/html:The Leon Owens Foundation is hosting the Annual Celebrity Charity Golf Tournament and Scholarship Fundraiser at the the beautiful Alta Vista Country Club in Placentia. There will be a Awards Banquet in the afternoon with great food\, live entertainment\, a Live &amp\; Silent Auction\; raffle priizes and door prizes. Proceeds from this event will benefit the Leon Owens Foundation Scholarship Fund. Your support will continue our efforts in providing college scholarships\; assist local schools (grades K-12th) in the areas of STEM\, BEAST\, Academic Camps\, Cultural field trips\, sports\, dance and music. Our accomplishments are achieved due to the amazing supporters who share the commitment to impact the educational future of students and serve our community.<br />\n<br />\nPlease plan to join on Monday\, June 3rd and be part of &quot\;Making A Difference Together&quot\;.
LOCATION:Alta Vista Country Club 777 Alta Vista Street Placentia\, CA 92870
UID:e.887.23316
SEQUENCE:3
DTSTAMP:20260422T041951Z
URL:https://business.nocchamber.com/events/details/leon-owens-foundation-celebrity-charity-golf-tournament-and-scholarship-fundraiser-23316
END:VEVENT

END:VCALENDAR
