BEGIN:VCALENDAR
VERSION:2.0
PRODID:-//ChamberMaster//Event Calendar 2.0//EN
METHOD:PUBLISH
X-PUBLISHED-TTL:P3D
REFRESH-INTERVAL:P3D
CALSCALE:GREGORIAN
BEGIN:VEVENT
DTSTART:20191027T000000Z
DTEND:20191027T033000Z
X-MICROSOFT-CDO-ALLDAYEVENT:FALSE
SUMMARY:Leon Owens Foundation - 25th Anniversary Jazz Renaissance Gala
DESCRIPTION:Leon Owens Foundation is celebrating its 25th Anniversary with a Jazz Renaissance Gala at the Hotel Fullerton on Saturday\, October 26\, 2019. The event will include dancing with a live band\, featuring Derek Bordeaux Group\, an opportunity drawing\, silent auction\, with raffle and door prizes.\n\n\n\nDinner will be sit down and four menu options. Early bird tickets purchased by September 30\, 2019 costs $100 per person. Tickets are $125 per person beginning October 1\, 2019.\n\n\n\nSponsorship and ticket purchases are available at the LOF website. For any questions\, contact Shirley Owens McClanahan at shirley@leonowensfoundation.org.
X-ALT-DESC;FMTTYPE=text/html:Leon Owens Foundation is celebrating its 25th Anniversary with a Jazz Renaissance Gala at the Hotel Fullerton on Saturday\, October 26\, 2019. The event will include dancing with a live band\, featuring Derek Bordeaux Group\, an opportunity drawing\, silent auction\, with raffle and door prizes.<br />\n<br />\nDinner will be sit down and four menu options. Early bird tickets purchased by September 30\, 2019 costs $100 per person. Tickets are $125 per person beginning October 1\, 2019.<br />\n<br />\nSponsorship and ticket purchases are available at the <a href="http://www.leonowensfoundation.org" target="_blank">LOF website</a>. For any questions\, contact Shirley Owens McClanahan at shirley@leonowensfoundation.org.
LOCATION:The Hotel Fullerton 1500 S. Raymond Ave. Fullerton\, CA 92831
UID:e.887.23677
SEQUENCE:3
DTSTAMP:20260421T231018Z
URL:https://business.nocchamber.com/events/details/leon-owens-foundation-25th-anniversary-jazz-renaissance-gala-23677
END:VEVENT

END:VCALENDAR
