BEGIN:VCALENDAR
VERSION:2.0
PRODID:-//ChamberMaster//Event Calendar 2.0//EN
METHOD:PUBLISH
X-PUBLISHED-TTL:P3D
REFRESH-INTERVAL:P3D
CALSCALE:GREGORIAN
BEGIN:VEVENT
DTSTART:20191010T143000Z
DTEND:20191010T163000Z
X-MICROSOFT-CDO-ALLDAYEVENT:FALSE
SUMMARY:Learn What Big Brands Know
DESCRIPTION:Join Spectrum Reach along with the Newport Beach Chamber and the Better Business Bureau for an exclusive thought leadership event. Come and learn where brands go to get big with Gerry O'Brion.\n\nGerry O'Brion is a marketing and branding keynote speaker and author who translates big brand strategies into knowledge that any business can use to win in the marketplace.
X-ALT-DESC;FMTTYPE=text/html:<p>Join Spectrum Reach along with the Newport Beach Chamber and the Better Business Bureau for an exclusive thought leadership event. Come and learn where brands go to get big with Gerry O&rsquo\;Brion.</p>\n\n<p>Gerry O&rsquo\;Brion is a marketing and branding keynote speaker and author who translates big brand strategies into knowledge that any business can use to win in the marketplace.</p>\n
LOCATION:Newport Beach Central Library 1000 Avocado Ave. Newport Beach\, CA 92660
UID:e.887.23724
SEQUENCE:3
DTSTAMP:20260422T000551Z
URL:https://business.nocchamber.com/events/details/learn-what-big-brands-know-23724
END:VEVENT

END:VCALENDAR
