BEGIN:VCALENDAR
VERSION:2.0
PRODID:-//ChamberMaster//Event Calendar 2.0//EN
METHOD:PUBLISH
X-PUBLISHED-TTL:P3D
REFRESH-INTERVAL:P3D
CALSCALE:GREGORIAN
BEGIN:VEVENT
DTSTART:20200306T020000Z
DTEND:20200306T043000Z
X-MICROSOFT-CDO-ALLDAYEVENT:FALSE
SUMMARY:Lake Forest: SCORE Workshop - Leasing Office or Retail Space
DESCRIPTION:SCORE is hosting an interactive workshop that covers how the commercial leasing process works\, as well as methods to take charge and negotiate the best deal possible. The workshop is designed for individuals thinking about leasing office or retail space\, or individuals whose businesses are presently housed in leased space and the lease ends within the next 12 months.\n\n\n\nDennis Wright of SCORE will be the presenter. His facility leasing experience totals nearly 15 years and at retirement he was overseeing office leasing activity for 16 operating companies\, having 300 + facilities throughout North America. He's been there / done that\, and now mentors SCORE clients on all things related to facility leasing.
X-ALT-DESC;FMTTYPE=text/html:SCORE is hosting an interactive workshop that covers how the commercial leasing process works\, as well as methods to take charge and negotiate the best deal possible. The workshop is designed for individuals thinking about leasing office or retail space\, or individuals whose businesses are presently housed in leased space and the lease ends within the next 12 months.<br />\n<br />\nDennis Wright of SCORE&nbsp\;will be the presenter. His facility leasing experience totals nearly 15 years and at retirement he was overseeing office leasing activity for 16 operating companies\, having 300 + facilities throughout North America. He&#39\;s been there / done that\, and now mentors SCORE clients on all things related to facility leasing.&nbsp\;
LOCATION:Spotlight Space at Staples Store 23710 El Toro Rd. Lake Forest\, CA 92630
UID:e.887.24150
SEQUENCE:3
DTSTAMP:20260421T180742Z
URL:https://business.nocchamber.com/events/details/lake-forest-score-workshop-leasing-office-or-retail-space-24150
END:VEVENT

END:VCALENDAR
