BEGIN:VCALENDAR
VERSION:2.0
PRODID:-//ChamberMaster//Event Calendar 2.0//EN
METHOD:PUBLISH
X-PUBLISHED-TTL:P3D
REFRESH-INTERVAL:P3D
CALSCALE:GREGORIAN
BEGIN:VEVENT
DTSTART:20200214T020000Z
DTEND:20200214T044500Z
X-MICROSOFT-CDO-ALLDAYEVENT:FALSE
SUMMARY:Laguna Woods: SCORE Workshop - Secrets to Buying a Franchise
DESCRIPTION:SCORE Workshop provides information regarding the benefits and challenges of franchised business\, presented by an experienced franchise consultant and franchise attorney. \n\n\n\nTopics include:\n\n	Evaluate starting a franchise vs. an independent business vs. buying an existing business\n	The best types of franchises for today's economy\n	The myths about franchising and the mistakes to avoid\n	How to research a franchise and determine if it's the right choice\n	California laws and legal issues\n	Insights into legal documents\, e.g. disclosure document and franchise agreement
X-ALT-DESC;FMTTYPE=text/html:SCORE Workshop provides information regarding the benefits and challenges of franchised business\, presented by an experienced franchise consultant and franchise attorney.&nbsp\;<br />\n<br />\nTopics include:\n<ul>\n	<li>Evaluate starting a franchise vs. an independent business vs. buying an existing business</li>\n	<li>The best types of franchises for today&#39\;s economy</li>\n	<li>The myths about franchising and the mistakes to avoid</li>\n	<li>How to research a franchise and determine if it&#39\;s the right choice</li>\n	<li>California laws and legal issues</li>\n	<li>Insights into legal documents\, e.g. disclosure document and franchise agreement</li>\n</ul>\n
LOCATION:Laguna Woods City Hall (VM Lekander) 24264 El Toro Rd. Laguna Woods\, CA 92637
UID:e.887.24099
SEQUENCE:3
DTSTAMP:20260421T181033Z
URL:https://business.nocchamber.com/events/details/laguna-woods-score-workshop-secrets-to-buying-a-franchise-24099
END:VEVENT

END:VCALENDAR
