BEGIN:VCALENDAR
VERSION:2.0
PRODID:-//ChamberMaster//Event Calendar 2.0//EN
METHOD:PUBLISH
X-PUBLISHED-TTL:P3D
REFRESH-INTERVAL:P3D
CALSCALE:GREGORIAN
BEGIN:VEVENT
DTSTART:20200221T020000Z
DTEND:20200221T044500Z
X-MICROSOFT-CDO-ALLDAYEVENT:FALSE
SUMMARY:La Palma: SCORE Workshop - Networking to Build a Personal Brand
DESCRIPTION:SCORE is hosting a workshop presented by Steve Thomas to teach individuals how to develop their personal brands and strengthen their first impression. Other topics include developing a Personal Branding Statement and building relationship skills to add to a person's personal and business network.
X-ALT-DESC;FMTTYPE=text/html:SCORE is hosting a workshop presented by Steve Thomas to teach individuals how to develop their personal brands and strengthen their first impression. Other topics include developing a Personal Branding Statement and building relationship skills to add to a person&#39\;s personal and business network.&nbsp\;
LOCATION:La Palma Community Center 7821 Walker Street La Palma\, CA 90623
UID:e.887.24103
SEQUENCE:3
DTSTAMP:20260421T191500Z
URL:https://business.nocchamber.com/events/details/la-palma-score-workshop-networking-to-build-a-personal-brand-24103
END:VEVENT

END:VCALENDAR
