BEGIN:VCALENDAR
VERSION:2.0
PRODID:-//ChamberMaster//Event Calendar 2.0//EN
METHOD:PUBLISH
X-PUBLISHED-TTL:P3D
REFRESH-INTERVAL:P3D
CALSCALE:GREGORIAN
BEGIN:VEVENT
DTSTART:20200525T160000Z
DTEND:20200525T190000Z
X-MICROSOFT-CDO-ALLDAYEVENT:FALSE
SUMMARY:La Palma: Memorial Day Ceremony
DESCRIPTION:The Memorial Day Ceremony has become one of the most time-honored traditions in La Palma. Having existed for over 30 years\, the ceremony pays tribute to the dedication and sacrifices the men and women of our Nation's Armed Forces have made. Every Memorial Day\, the City of La Palma honors their service in defense of our freedom and their sacrifice for Liberty throughout the world.
X-ALT-DESC;FMTTYPE=text/html:The Memorial Day Ceremony has become one of the most time-honored traditions in La Palma. Having existed for over 30 years\, the ceremony pays tribute to the dedication and sacrifices the men and women of our Nation&rsquo\;s Armed Forces have made. Every Memorial Day\, the City of La Palma honors their service in defense of our freedom and their sacrifice for Liberty throughout the world.
LOCATION:Civic Center 7822 Walker Street La Palma\, CA 90623
UID:e.887.24241
SEQUENCE:3
DTSTAMP:20260421T144029Z
URL:https://business.nocchamber.com/events/details/la-palma-memorial-day-ceremony-24241
END:VEVENT

END:VCALENDAR
