BEGIN:VCALENDAR
VERSION:2.0
PRODID:-//ChamberMaster//Event Calendar 2.0//EN
METHOD:PUBLISH
X-PUBLISHED-TTL:P3D
REFRESH-INTERVAL:P3D
CALSCALE:GREGORIAN
BEGIN:VEVENT
DTSTART:20191002T020000Z
DTEND:20191002T030000Z
X-MICROSOFT-CDO-ALLDAYEVENT:FALSE
SUMMARY:La Palma Local Hazard Mitigation Plan
DESCRIPTION:The City of La Palma is preparing a Local Hazard Mitigation Plan\, or LHMP. This plan will help create a safer community for residents\, businesses\, and visitors. The LHMP allows public safety officials and city staff\, elected officials\, and members of the public understand the threats from natural and human-caused hazards in our community. The plan will also recommend specific actions to proactively decrease these threats before disasters occur.\n\n\n\nRead more.
X-ALT-DESC;FMTTYPE=text/html:The City of La Palma is preparing a Local Hazard Mitigation Plan\, or LHMP. This plan will help create a safer community for residents\, businesses\, and visitors. The LHMP allows public safety officials and city staff\, elected officials\, and members of the public understand the threats from natural and human-caused hazards in our community. The plan will also recommend specific actions to proactively decrease these threats before disasters occur.<br />\n<br />\n<a href="https://www.cityoflapalma.org/632/Local-Hazard-Mitigation-Plan?utm_source=City+of+La+Palma+Weekly+E-Newsletter&amp\;utm_campaign=30526e2765-EMAIL_CAMPAIGN_2019_06_19_02_47_COPY_01&amp\;utm_medium=email&amp\;utm_term=0_e74a18f40e-30526e2765-74032927" target="_blank">Read more.</a>
LOCATION:City Hall 7822 Walker Street La Palma\, CA 90623
UID:e.887.23712
SEQUENCE:3
DTSTAMP:20260421T225324Z
URL:https://business.nocchamber.com/events/details/la-palma-local-hazard-mitigation-plan-23712
END:VEVENT

END:VCALENDAR
