BEGIN:VCALENDAR
VERSION:2.0
PRODID:-//ChamberMaster//Event Calendar 2.0//EN
METHOD:PUBLISH
X-PUBLISHED-TTL:P3D
REFRESH-INTERVAL:P3D
CALSCALE:GREGORIAN
BEGIN:VEVENT
DTSTART:20200704T130000Z
DTEND:20200704T170000Z
X-MICROSOFT-CDO-ALLDAYEVENT:FALSE
SUMMARY:La Palma: Fitness Run for Fun
DESCRIPTION:The 40th Annual La Palma Fitness Run for Fun offers a healthy way to celebrate the Fourth of July festivities. La Palma Fitness Run for Fun is more than just another run\, it's an opportunity to experience that small town sense of community\; to share quality time with your family\, neighbors\, and friends\; and to focus on health and wellness while participating in a quality running\, walking\, or strolling experience. \n\nFollowing the race\, stop by Central Park for a $5 pancake breakfast provided by La Palma's local non-profit\, Kiwanis Club\, and watch the award presentations at the Park Pavilion starting at 9:15 AM. In addition\, the La Palma Community Services Department will be hosting its ever popular Family Fun Zone.
X-ALT-DESC;FMTTYPE=text/html:<p>The 40th Annual La Palma Fitness Run for Fun offers a healthy way to celebrate the Fourth of July festivities. La Palma Fitness Run for Fun is more than just another run\, it&rsquo\;s an opportunity to experience that small town sense of community\; to share quality time with your family\, neighbors\, and friends\; and to focus on health and wellness while participating in a quality running\, walking\, or strolling experience.&nbsp\;</p>\n\n<p>Following the race\, stop by Central Park for a $5 pancake breakfast provided by La Palma&rsquo\;s local non-profit\, Kiwanis Club\, and watch the award presentations at the Park Pavilion starting at 9:15 AM. In addition\, the La Palma Community Services Department will be hosting its ever popular Family Fun Zone.</p>\n
LOCATION:Central Park 7821 Walker Street La Palma\, CA 90623
UID:e.887.24242
SEQUENCE:3
DTSTAMP:20260421T131537Z
URL:https://business.nocchamber.com/events/details/la-palma-fitness-run-for-fun-24242
END:VEVENT

END:VCALENDAR
