BEGIN:VCALENDAR
VERSION:2.0
PRODID:-//ChamberMaster//Event Calendar 2.0//EN
METHOD:PUBLISH
X-PUBLISHED-TTL:P3D
REFRESH-INTERVAL:P3D
CALSCALE:GREGORIAN
BEGIN:VEVENT
DTSTART:20200311T003000Z
DTEND:20200311T030000Z
X-MICROSOFT-CDO-ALLDAYEVENT:FALSE
SUMMARY:La Habra: SCORE Workshop - Develop a Winning Business Plan
DESCRIPTION:Jim Chamberlain of SCORE presents this workshop on preparing a realistic business plan that document's your company's vision\, goals\, and strategy. The workshop will also cover the financial section of a business plan\, specifically the three financial statements and how they relate to risk and performance.
X-ALT-DESC;FMTTYPE=text/html:Jim Chamberlain of SCORE presents this workshop on preparing a realistic business plan that document&#39\;s your company&#39\;s vision\, goals\, and strategy. The workshop will also cover the financial section of a business plan\, specifically the three financial statements and how they relate to risk and performance.
LOCATION:La Habra Community Center (VM Byun) 101 W La Habra Blvd. La Habra\, CA 90631
UID:e.887.24224
SEQUENCE:3
DTSTAMP:20260421T164920Z
URL:https://business.nocchamber.com/events/details/la-habra-score-workshop-develop-a-winning-business-plan-24224
END:VEVENT

END:VCALENDAR
